BEGIN:VCALENDAR
VERSION:2.0
PRODID:-//Active Wealth Management - ECPv6.15.20//NONSGML v1.0//EN
CALSCALE:GREGORIAN
METHOD:PUBLISH
X-ORIGINAL-URL:https://activewealth.com
X-WR-CALDESC:Events for Active Wealth Management
REFRESH-INTERVAL;VALUE=DURATION:PT1H
X-Robots-Tag:noindex
X-PUBLISHED-TTL:PT1H
BEGIN:VTIMEZONE
TZID:UTC
BEGIN:STANDARD
TZOFFSETFROM:+0000
TZOFFSETTO:+0000
TZNAME:UTC
DTSTART:20190101T000000
END:STANDARD
END:VTIMEZONE
BEGIN:VEVENT
DTSTART;TZID=UTC:20200514T110000
DTEND;TZID=UTC:20200514T123000
DTSTAMP:20260423T072303
CREATED:20200422T223419Z
LAST-MODIFIED:20200422T223419Z
UID:706-1589454000-1589459400@activewealth.com
SUMMARY:Your Financial Remedy for the Coronavirus Panic
DESCRIPTION:Join Ford and Brandy in this webinar as they give some important tips on how to protect your wealth during our current market situation. They will give you 8 solutions for your portfolio in order to protect it from market volatility. Go to this link to register for our next webinar!
URL:https://activewealth.com/event/your-financial-remedy-for-the-coronavirus-panic-2020-05-14/
ATTACH;FMTTYPE=image/jpeg:https://activewealth.com/wp-content/uploads/2020/04/GettyImages-1200769096.jpg
END:VEVENT
BEGIN:VEVENT
DTSTART;TZID=UTC:20200513T090000
DTEND;TZID=UTC:20200513T103000
DTSTAMP:20260423T072303
CREATED:20200422T224520Z
LAST-MODIFIED:20200422T224520Z
UID:727-1589360400-1589365800@activewealth.com
SUMMARY:Your Financial Remedy for the Coronavirus Panic
DESCRIPTION:Join Ford and Brandy in this webinar as they give some important tips on how to protect your wealth during our current market situation. They will give you 8 solutions for your portfolio in order to protect it from market volatility. Go to this link to register for our next webinar! 
URL:https://activewealth.com/event/your-financial-remedy-for-the-coronavirus-panic-5-2020-05-13/
ATTACH;FMTTYPE=image/jpeg:https://activewealth.com/wp-content/uploads/2020/04/GettyImages-1200769096.jpg
END:VEVENT
BEGIN:VEVENT
DTSTART;TZID=UTC:20200512T170000
DTEND;TZID=UTC:20200512T183000
DTSTAMP:20260423T072303
CREATED:20200422T224326Z
LAST-MODIFIED:20200422T224326Z
UID:723-1589302800-1589308200@activewealth.com
SUMMARY:Your Financial Remedy for the Coronavirus Panic
DESCRIPTION:Join Ford and Brandy in this webinar as they give some important tips on how to protect your wealth during our current market situation. They will give you 8 solutions for your portfolio in order to protect it from market volatility. Go to this link to register for our next webinar! 
URL:https://activewealth.com/event/your-financial-remedy-for-the-coronavirus-panic-4-2020-05-12/
ATTACH;FMTTYPE=image/jpeg:https://activewealth.com/wp-content/uploads/2020/04/GettyImages-1200769096.jpg
END:VEVENT
BEGIN:VEVENT
DTSTART;TZID=UTC:20200511T150000
DTEND;TZID=UTC:20200511T163000
DTSTAMP:20260423T072303
CREATED:20200422T224004Z
LAST-MODIFIED:20200422T224028Z
UID:717-1589209200-1589214600@activewealth.com
SUMMARY:Your Financial Remedy for the Coronavirus Panic
DESCRIPTION:Join Ford and Brandy in this webinar as they give some important tips on how to protect your wealth during our current market situation. They will give you 8 solutions for your portfolio in order to protect it from market volatility. Go to this link to register for our next webinar! 
URL:https://activewealth.com/event/your-financial-remedy-for-the-coronavirus-panic-3-2020-05-11/
ATTACH;FMTTYPE=image/jpeg:https://activewealth.com/wp-content/uploads/2020/04/GettyImages-1200769096.jpg
END:VEVENT
BEGIN:VEVENT
DTSTART;TZID=UTC:20200508T130000
DTEND;TZID=UTC:20200508T143000
DTSTAMP:20260423T072303
CREATED:20200422T223729Z
LAST-MODIFIED:20200422T223729Z
UID:713-1588942800-1588948200@activewealth.com
SUMMARY:Your Financial Remedy for the Coronavirus Panic
DESCRIPTION:Join Ford and Brandy in this webinar as they give some important tips on how to protect your wealth during our current market situation. They will give you 8 solutions for your portfolio in order to protect it from market volatility. Go to this link to register for our next webinar! 
URL:https://activewealth.com/event/your-financial-remedy-for-the-coronavirus-panic-2-2020-05-08/
ATTACH;FMTTYPE=image/jpeg:https://activewealth.com/wp-content/uploads/2020/04/GettyImages-1200769096.jpg
END:VEVENT
BEGIN:VEVENT
DTSTART;TZID=UTC:20200507T110000
DTEND;TZID=UTC:20200507T123000
DTSTAMP:20260423T072303
CREATED:20200422T223418Z
LAST-MODIFIED:20200422T223418Z
UID:705-1588849200-1588854600@activewealth.com
SUMMARY:Your Financial Remedy for the Coronavirus Panic
DESCRIPTION:Join Ford and Brandy in this webinar as they give some important tips on how to protect your wealth during our current market situation. They will give you 8 solutions for your portfolio in order to protect it from market volatility. Go to this link to register for our next webinar!
URL:https://activewealth.com/event/your-financial-remedy-for-the-coronavirus-panic-2020-05-07/
ATTACH;FMTTYPE=image/jpeg:https://activewealth.com/wp-content/uploads/2020/04/GettyImages-1200769096.jpg
END:VEVENT
BEGIN:VEVENT
DTSTART;TZID=UTC:20200506T090000
DTEND;TZID=UTC:20200506T103000
DTSTAMP:20260423T072303
CREATED:20200422T224520Z
LAST-MODIFIED:20200422T224520Z
UID:726-1588755600-1588761000@activewealth.com
SUMMARY:Your Financial Remedy for the Coronavirus Panic
DESCRIPTION:Join Ford and Brandy in this webinar as they give some important tips on how to protect your wealth during our current market situation. They will give you 8 solutions for your portfolio in order to protect it from market volatility. Go to this link to register for our next webinar! 
URL:https://activewealth.com/event/your-financial-remedy-for-the-coronavirus-panic-5-2020-05-06/
ATTACH;FMTTYPE=image/jpeg:https://activewealth.com/wp-content/uploads/2020/04/GettyImages-1200769096.jpg
END:VEVENT
BEGIN:VEVENT
DTSTART;TZID=UTC:20200505T170000
DTEND;TZID=UTC:20200505T183000
DTSTAMP:20260423T072303
CREATED:20200422T224326Z
LAST-MODIFIED:20200422T224326Z
UID:722-1588698000-1588703400@activewealth.com
SUMMARY:Your Financial Remedy for the Coronavirus Panic
DESCRIPTION:Join Ford and Brandy in this webinar as they give some important tips on how to protect your wealth during our current market situation. They will give you 8 solutions for your portfolio in order to protect it from market volatility. Go to this link to register for our next webinar! 
URL:https://activewealth.com/event/your-financial-remedy-for-the-coronavirus-panic-4-2020-05-05/
ATTACH;FMTTYPE=image/jpeg:https://activewealth.com/wp-content/uploads/2020/04/GettyImages-1200769096.jpg
END:VEVENT
BEGIN:VEVENT
DTSTART;TZID=UTC:20200504T150000
DTEND;TZID=UTC:20200504T163000
DTSTAMP:20260423T072303
CREATED:20200422T224004Z
LAST-MODIFIED:20200422T224027Z
UID:716-1588604400-1588609800@activewealth.com
SUMMARY:Your Financial Remedy for the Coronavirus Panic
DESCRIPTION:Join Ford and Brandy in this webinar as they give some important tips on how to protect your wealth during our current market situation. They will give you 8 solutions for your portfolio in order to protect it from market volatility. Go to this link to register for our next webinar! 
URL:https://activewealth.com/event/your-financial-remedy-for-the-coronavirus-panic-3-2020-05-04/
ATTACH;FMTTYPE=image/jpeg:https://activewealth.com/wp-content/uploads/2020/04/GettyImages-1200769096.jpg
END:VEVENT
BEGIN:VEVENT
DTSTART;TZID=UTC:20200501T130000
DTEND;TZID=UTC:20200501T143000
DTSTAMP:20260423T072303
CREATED:20200422T223729Z
LAST-MODIFIED:20200422T223729Z
UID:712-1588338000-1588343400@activewealth.com
SUMMARY:Your Financial Remedy for the Coronavirus Panic
DESCRIPTION:Join Ford and Brandy in this webinar as they give some important tips on how to protect your wealth during our current market situation. They will give you 8 solutions for your portfolio in order to protect it from market volatility. Go to this link to register for our next webinar! 
URL:https://activewealth.com/event/your-financial-remedy-for-the-coronavirus-panic-2-2020-05-01/
ATTACH;FMTTYPE=image/jpeg:https://activewealth.com/wp-content/uploads/2020/04/GettyImages-1200769096.jpg
END:VEVENT
BEGIN:VEVENT
DTSTART;TZID=UTC:20200430T110000
DTEND;TZID=UTC:20200430T123000
DTSTAMP:20260423T072303
CREATED:20200422T223417Z
LAST-MODIFIED:20200422T223417Z
UID:704-1588244400-1588249800@activewealth.com
SUMMARY:Your Financial Remedy for the Coronavirus Panic
DESCRIPTION:Join Ford and Brandy in this webinar as they give some important tips on how to protect your wealth during our current market situation. They will give you 8 solutions for your portfolio in order to protect it from market volatility. Go to this link to register for our next webinar!
URL:https://activewealth.com/event/your-financial-remedy-for-the-coronavirus-panic-2020-04-30/
ATTACH;FMTTYPE=image/jpeg:https://activewealth.com/wp-content/uploads/2020/04/GettyImages-1200769096.jpg
END:VEVENT
BEGIN:VEVENT
DTSTART;TZID=UTC:20200429T090000
DTEND;TZID=UTC:20200429T103000
DTSTAMP:20260423T072303
CREATED:20200422T224520Z
LAST-MODIFIED:20200422T224520Z
UID:724-1588150800-1588156200@activewealth.com
SUMMARY:Your Financial Remedy for the Coronavirus Panic
DESCRIPTION:Join Ford and Brandy in this webinar as they give some important tips on how to protect your wealth during our current market situation. They will give you 8 solutions for your portfolio in order to protect it from market volatility. Go to this link to register for our next webinar! 
URL:https://activewealth.com/event/your-financial-remedy-for-the-coronavirus-panic-5/
ATTACH;FMTTYPE=image/jpeg:https://activewealth.com/wp-content/uploads/2020/04/GettyImages-1200769096.jpg
END:VEVENT
BEGIN:VEVENT
DTSTART;TZID=UTC:20200428T170000
DTEND;TZID=UTC:20200428T183000
DTSTAMP:20260423T072303
CREATED:20200422T224326Z
LAST-MODIFIED:20200422T224326Z
UID:720-1588093200-1588098600@activewealth.com
SUMMARY:Your Financial Remedy for the Coronavirus Panic
DESCRIPTION:Join Ford and Brandy in this webinar as they give some important tips on how to protect your wealth during our current market situation. They will give you 8 solutions for your portfolio in order to protect it from market volatility. Go to this link to register for our next webinar! 
URL:https://activewealth.com/event/your-financial-remedy-for-the-coronavirus-panic-4/
ATTACH;FMTTYPE=image/jpeg:https://activewealth.com/wp-content/uploads/2020/04/GettyImages-1200769096.jpg
END:VEVENT
BEGIN:VEVENT
DTSTART;TZID=UTC:20200427T150000
DTEND;TZID=UTC:20200427T163000
DTSTAMP:20260423T072303
CREATED:20200422T224004Z
LAST-MODIFIED:20200422T224027Z
UID:714-1587999600-1588005000@activewealth.com
SUMMARY:Your Financial Remedy for the Coronavirus Panic
DESCRIPTION:Join Ford and Brandy in this webinar as they give some important tips on how to protect your wealth during our current market situation. They will give you 8 solutions for your portfolio in order to protect it from market volatility. Go to this link to register for our next webinar! 
URL:https://activewealth.com/event/your-financial-remedy-for-the-coronavirus-panic-3/
ATTACH;FMTTYPE=image/jpeg:https://activewealth.com/wp-content/uploads/2020/04/GettyImages-1200769096.jpg
END:VEVENT
BEGIN:VEVENT
DTSTART;TZID=UTC:20200424T130000
DTEND;TZID=UTC:20200424T143000
DTSTAMP:20260423T072303
CREATED:20200422T223729Z
LAST-MODIFIED:20200422T223729Z
UID:710-1587733200-1587738600@activewealth.com
SUMMARY:Your Financial Remedy for the Coronavirus Panic
DESCRIPTION:Join Ford and Brandy in this webinar as they give some important tips on how to protect your wealth during our current market situation. They will give you 8 solutions for your portfolio in order to protect it from market volatility. Go to this link to register for our next webinar! 
URL:https://activewealth.com/event/your-financial-remedy-for-the-coronavirus-panic-2/
ATTACH;FMTTYPE=image/jpeg:https://activewealth.com/wp-content/uploads/2020/04/GettyImages-1200769096.jpg
END:VEVENT
BEGIN:VEVENT
DTSTART;TZID=UTC:20200423T110000
DTEND;TZID=UTC:20200423T123000
DTSTAMP:20260423T072303
CREATED:20200422T223417Z
LAST-MODIFIED:20200422T223417Z
UID:700-1587639600-1587645000@activewealth.com
SUMMARY:Your Financial Remedy for the Coronavirus Panic
DESCRIPTION:Join Ford and Brandy in this webinar as they give some important tips on how to protect your wealth during our current market situation. They will give you 8 solutions for your portfolio in order to protect it from market volatility. Go to this link to register for our next webinar!
URL:https://activewealth.com/event/your-financial-remedy-for-the-coronavirus-panic/
ATTACH;FMTTYPE=image/jpeg:https://activewealth.com/wp-content/uploads/2020/04/GettyImages-1200769096.jpg
END:VEVENT
BEGIN:VEVENT
DTSTART;TZID=UTC:20200411T113000
DTEND;TZID=UTC:20200411T130000
DTSTAMP:20260423T072303
CREATED:20200303T055018Z
LAST-MODIFIED:20200303T055018Z
UID:626-1586604600-1586610000@activewealth.com
SUMMARY:Retire Well Workshop at KSU
DESCRIPTION:Learn how to Maximize SS\, Reduce Taxes\, Beat RMDs\, Generate Retirement Income\, and Combat Coronavirus Volatility  \nThis important event is brought to you by US Retirement Education\, Inc.\, a 501(C)(3) Nonprofit organization formed to help people invest and retire successfully.  \nTOPICS COVERED: \n\nRETIRING TODAY\nTAX RATE RISK\nMAXIMIZING SOCIAL SECURITY\nRETIREMENT DISTRIBUTION PITFALLS\nWHY LOSSES DURING RETIREMENT MATTER\n\nThis course is designed to give each attendee a comprehensive and Plain-English financial education\, while also exposing various pitfalls and risks that threaten to derail many retirees today. This event is purely educational – no specific products or services will be offered.
URL:https://activewealth.com/event/retire-well-workshop-at-ksu/
LOCATION:KSU Kennesaw Campus\, 1000 Chastain Road\, Kennesaw\, GA\, 30144\, United States
END:VEVENT
BEGIN:VEVENT
DTSTART;TZID=UTC:20200305T110000
DTEND;TZID=UTC:20200305T123000
DTSTAMP:20260423T072303
CREATED:20200303T071437Z
LAST-MODIFIED:20200303T071641Z
UID:631-1583406000-1583411400@activewealth.com
SUMMARY:Retirement Ed & Coronavirus Cure
DESCRIPTION:Learn how to Maximize SS\, Reduce Taxes\, Beat RMDs\, Generate Retirement Income\, and Combat Coronavirus Volatility  \nThis important event is brought to you by US Retirement Education\, Inc.\, a 501(C)(3) Nonprofit organization formed to help people invest and retire successfully. \nTOPICS COVERED: \n\nRETIRING TODAY\nTAX RATE RISK\nMAXIMIZING SOCIAL SECURITY\nBUILDING AN EXCEPTIONAL LEGACY\nHOW “SAFE MONEY” CAN PROTECT YOU\nRETIREMENT DISTRIBUTION PITFALLS\nHOW TO COMBAT MARKET VOLATILITY\nWHY LOSSES DURING RETIREMENT MATTER\n\nThis course is designed to give each attendee a comprehensive and Plain-English financial education\, while also exposing various pitfalls and risks that threaten to derail many retirees today. This event is purely educational – no specific products or services will be offered.
URL:https://activewealth.com/event/retirement-ed-coronavirus-cure/
LOCATION:Cartersville Library\, 429 W Main St\, Cartersville\, GA\, 30120\, United States
END:VEVENT
END:VCALENDAR